BEGIN:VCALENDAR
VERSION:2.0
PRODID:-//hacksw/handcal//NONSGML v1.0//EN
BEGIN:VEVENT
SUMMARY:Individuels Zone A - Pontarlier
UID:42fa18c0-4ae9-40c3-ad37-092e45af55f9
DTSTART:20120331T220000Z
DTEND:20120401T220000Z
LOCATION:Localisation   
CATEGORIES:Sportif
STATUS:
DESCRIPTION:Competition interregionale individuelle pour les
 gymnastes des groupes National et Criterium National selectionnes
 lors de la competition regionale des 3 et 4 mars a Sarreguemines
URL;VALUE=URI:https://www.ugl.fr/evenements/2012/04/01/individuels-zone-a-pontarlier-105083
END:VEVENT
END:VCALENDAR
