BEGIN:VCALENDAR
VERSION:2.0
PRODID:-//hacksw/handcal//NONSGML v1.0//EN
BEGIN:VEVENT
SUMMARY:Individuels Zone A - Pontarlier
UID:3c966c39-7f86-4f6e-bb8a-377bd7d620c5
DTSTART:20120330T220000Z
DTEND:20120331T220000Z
LOCATION:Localisation   
CATEGORIES:Sportif
STATUS:
DESCRIPTION:Competition interregionale individuelle pour les
 gymnastes des groupes National et Criterium National selectionnes
 lors de la competition regionale des 3 et 4 mars a Sarreguemines
URL;VALUE=URI:https://www.ugl.fr/evenements/2012/03/31/individuels-zone-a-pontarlier-105079
END:VEVENT
END:VCALENDAR
