BEGIN:VCALENDAR
VERSION:2.0
PRODID:-//hacksw/handcal//NONSGML v1.0//EN
BEGIN:VEVENT
SUMMARY:Championnat de Zone TEAMGYM - LONGWY
UID:adeaa8dd-65f8-44ee-a6e8-b621d2743c83
DTSTART:20120324T230000Z
DTEND:20120325T230000Z
LOCATION:Localisation   
CATEGORIES:Sportif
STATUS:
DESCRIPTION:Championnat Interregional
URL;VALUE=URI:https://www.ugl.fr/evenements/2012/03/25/championnat-de-zone-teamgym-longwy-105067
END:VEVENT
END:VCALENDAR
