BEGIN:VCALENDAR
VERSION:2.0
PRODID:-//hacksw/handcal//NONSGML v1.0//EN
BEGIN:VEVENT
SUMMARY:Individuels CRIT FED REGIONAL - Saint Die
UID:ea53646b-19e1-493f-9533-1a092f816dd7
DTSTART:20120323T230000Z
DTEND:20120324T230000Z
LOCATION:Localisation   
CATEGORIES:Sportif
STATUS:
DESCRIPTION:Competition regionale individuelle pour les gymnastes du
 groupe Criterium Regional selectionnes lors de la competition des 10
 et 11 mars a Luneville
URL;VALUE=URI:https://www.ugl.fr/evenements/2012/03/24/individuels-crit-fed-regional-saint-die-105074
END:VEVENT
END:VCALENDAR
