BEGIN:VCALENDAR
VERSION:2.0
PRODID:-//hacksw/handcal//NONSGML v1.0//EN
BEGIN:VEVENT
SUMMARY:Championnat de Zone GAC - CHALONS EN CHAMPAGNE
UID:f7530533-7f45-46f9-a5b0-15da5fc2f277
DTSTART:20120323T230000Z
DTEND:20120324T230000Z
LOCATION:Localisation   
CATEGORIES:Sportif
STATUS:
DESCRIPTION:Competition Interregionale pour les gymnastes du groupe
 Acro Competition qualifies lors de la competition du 29/01/2011 a
 Amneville
URL;VALUE=URI:https://www.ugl.fr/evenements/2012/03/24/championnat-de-zone-gac-chalons-en-champagne-105066
END:VEVENT
END:VCALENDAR
